BEGIN:VCALENDAR
VERSION:2.0
PRODID:-//Jack Graham Photography - ECPv6.15.20//NONSGML v1.0//EN
CALSCALE:GREGORIAN
METHOD:PUBLISH
X-WR-CALNAME:Jack Graham Photography
X-ORIGINAL-URL:https://jackgrahamphoto.com
X-WR-CALDESC:Events for Jack Graham Photography
REFRESH-INTERVAL;VALUE=DURATION:PT1H
X-Robots-Tag:noindex
X-PUBLISHED-TTL:PT1H
BEGIN:VTIMEZONE
TZID:America/Los_Angeles
BEGIN:DAYLIGHT
TZOFFSETFROM:-0800
TZOFFSETTO:-0700
TZNAME:PDT
DTSTART:20230312T100000
END:DAYLIGHT
BEGIN:STANDARD
TZOFFSETFROM:-0700
TZOFFSETTO:-0800
TZNAME:PST
DTSTART:20231105T090000
END:STANDARD
BEGIN:DAYLIGHT
TZOFFSETFROM:-0800
TZOFFSETTO:-0700
TZNAME:PDT
DTSTART:20240310T100000
END:DAYLIGHT
BEGIN:STANDARD
TZOFFSETFROM:-0700
TZOFFSETTO:-0800
TZNAME:PST
DTSTART:20241103T090000
END:STANDARD
BEGIN:DAYLIGHT
TZOFFSETFROM:-0800
TZOFFSETTO:-0700
TZNAME:PDT
DTSTART:20250309T100000
END:DAYLIGHT
BEGIN:STANDARD
TZOFFSETFROM:-0700
TZOFFSETTO:-0800
TZNAME:PST
DTSTART:20251102T090000
END:STANDARD
END:VTIMEZONE
BEGIN:VEVENT
DTSTART;VALUE=DATE:20241205
DTEND;VALUE=DATE:20241209
DTSTAMP:20260423T164933
CREATED:20230817T161954Z
LAST-MODIFIED:20240103T174226Z
UID:11094-1733356800-1733702399@jackgrahamphoto.com
SUMMARY:Grand Teton National Park in Winter
DESCRIPTION:Nothing says Wyoming like the Teton National Park in winter\, located just outside Jackson Hole. At this time of year\, the Christmas decorations are up but the crowds haven’t arrived yet and it’s a perfect time for a photo workshop! \nExperience the Tetons on this amazing winter photo workshop! We will spend 3 ½ days exploring Teton National Park in winter. The snow-capped mountains of the Grand Teton range will be visible from the famous Snake River locations we’ll photograph from. Plus\, much like Yellowstone\, wildlife is common – we often see moose\, elk\, trumpeter swans\, buffalo and coyotes. And in the winter\, the wildlife is down from the high country and much more active as they forage for food. We will photograph the snow capped mountains of the Tetons range\, rustic cabins\, meandering creeks and rivers\, plus many other fantastic sights. Join us for a stunning winter adventure! \nWe will base our workshop out of Jackson Wyoming which is just a short distance from the park. We will spend our days photographing the landscapes and winter scenes and hunting for the ideal wildlife images. Plus\, we will spend a little time doing image reviews/learning as time and weather permits. \nPlease note that although the workshop starts at sunrise on November 30th\, we will meet in Jackson Hole\, WY on the evening of November 29th for an hour or so to go over itineraries\, travel\, and workshop goals. \nMore details regarding travel\, what to bring\, and accommodation will be sent to you after registration. Lodging is not included in the workshop cost. \nMore details regarding travel\, what to bring\, and accommodation will be sent to you after registration. Accommodation is not included in the workshop cost. Click here if you want to know what we’ll be working on\, and click here for general information on what to bring. \nJohn Pedersen Photography Workshops is an Authorized Permittee of the National Park Service. \n\nPLEASE NOTE: This workshop is part of the Photograph the Pacific Northwest series\, a collaboration between Jack Graham and John Pedersen to highlight the magnificent beauty of the PNW through in-depth workshops at some of the most iconic and beautiful locations. \n\nPURCHASE WORKSHOP & REGISTRATIONWorkshop Purchase and Registration is transacted through JohnPedersenPhoto.com \n  \n\n\n\n	\n		\n			\n			\n		\n\n		\n		\n			\n			\n		\n\n		\n		\n			\n			\n		\n\n		\n		\n			\n			\n		\n\n		\n		\n			\n			\n		\n\n		\n		\n			\n			\n		\n\n		\n		\n			\n			\n		\n\n		\n		\n			\n			\n		\n\n		\n		\n			\n			\n		\n\n		\n		\n			\n			\n		\n\n		\n		\n			\n			\n		\n\n		\n\n		\n	\n		[Show thumbnails]\n	\n\n\n \n  \n\n\n  \n\n\n\nWhat’s Included\nWhat’s Not Included\n\n\n\n\nExpert Guiding (20+ years experience)\nTravel to\, and during workshop\n\n\nIn-Field photographic instruction\nLodging\n\n\nClassroom Instruction\nMeals\n\n\nPost workshop syllabus and support\n \n\n\nNew friends and a great time!\n 
URL:https://jackgrahamphoto.com/workshop/teton-national-park-in-winter-3/
LOCATION:Grand Tetons\, Jackson Hole\, WY\, United States
CATEGORIES:Jack Graham Photo Workshops 2024
ATTACH;FMTTYPE=image/jpeg:https://jackgrahamphoto.com/wp-content/uploads/2017/07/TETONS-WINTER-1000px.jpg
ORGANIZER;CN="John Pedersen Photography":MAILTO:john@johnpedersenphoto.com
END:VEVENT
END:VCALENDAR