BEGIN:VCALENDAR
VERSION:2.0
PRODID:-//Jack Graham Photography - ECPv6.15.20//NONSGML v1.0//EN
CALSCALE:GREGORIAN
METHOD:PUBLISH
X-WR-CALNAME:Jack Graham Photography
X-ORIGINAL-URL:https://jackgrahamphoto.com
X-WR-CALDESC:Events for Jack Graham Photography
REFRESH-INTERVAL;VALUE=DURATION:PT1H
X-Robots-Tag:noindex
X-PUBLISHED-TTL:PT1H
BEGIN:VTIMEZONE
TZID:America/Los_Angeles
BEGIN:DAYLIGHT
TZOFFSETFROM:-0800
TZOFFSETTO:-0700
TZNAME:PDT
DTSTART:20240310T100000
END:DAYLIGHT
BEGIN:STANDARD
TZOFFSETFROM:-0700
TZOFFSETTO:-0800
TZNAME:PST
DTSTART:20241103T090000
END:STANDARD
BEGIN:DAYLIGHT
TZOFFSETFROM:-0800
TZOFFSETTO:-0700
TZNAME:PDT
DTSTART:20250309T100000
END:DAYLIGHT
BEGIN:STANDARD
TZOFFSETFROM:-0700
TZOFFSETTO:-0800
TZNAME:PST
DTSTART:20251102T090000
END:STANDARD
BEGIN:DAYLIGHT
TZOFFSETFROM:-0800
TZOFFSETTO:-0700
TZNAME:PDT
DTSTART:20260308T100000
END:DAYLIGHT
BEGIN:STANDARD
TZOFFSETFROM:-0700
TZOFFSETTO:-0800
TZNAME:PST
DTSTART:20261101T090000
END:STANDARD
END:VTIMEZONE
BEGIN:VEVENT
DTSTART;VALUE=DATE:20250512
DTEND;VALUE=DATE:20250517
DTSTAMP:20260423T101621
CREATED:20240724T003603Z
LAST-MODIFIED:20241231T163852Z
UID:11584-1747008000-1747439999@jackgrahamphoto.com
SUMMARY:Historic Savannah and Jekyll Island
DESCRIPTION:Join Jack Graham for an amazing experience photographing the the sites in beautiful Savannah and Jekyll Island\, Georgia \nPlease join us on May 12-16\, 2025\, for our photograph workshop in beautiful and historic Savannah Georgia and nearby Jekyll Island. \nWe will spend 2 days in Savannah proper and adjacent locations visiting these parks and historic locations as well as some of the historic plantations and other areas that offer some interesting photography. \nSavannah Georgia is quintessential historic and southern city offering endless photographic opportunities. Savannah is a coastal town that is separated from South Carolina by the Savannah River. It’s known for manicured parks\, horse-drawn carriages\, and diverse and beautiful architecture. \nSavannah’s historic district is filled with cobblestoned squares and numerous beautiful parks and squares\, again offering us a truly remarkable photographic experience. Many of these homes and buildings date back over 300 years. The city is well known for its streets and parks featuring old oak trees covered with Spanish moss. \nAfter 2 days in Savannah well travel south about an hour to Jekyll Island\, located between Savannah and Jacksonville. Here we’ll spend 2days exploring and photographing pm Jekyll Island. This location offers us diverse dead tree strewn beaches\, lighthouses\, and other architectural remains of (old forts\, other landmarks) as well as other buildings dating back to the early to mid-1700’s. \n \nWORKSHOP REGISTRATION / PAYMENT FORM\nPlease complete this form and choose your credit card payment amount.  \nIf you are human\, leave this field blank.JACK GRAHAM PHOTO WORKSHOP REGISTRATION\nSavannah GA & Jekyll Island  |  May\, 2025InstructionsPlease fill out this form for all Jack Graham Photo Workshops.\nAll fields marked with * are required for registration \nTerms & Conditions *I have read and agree to the Jack Graham Photo Workshop Terms & Conditions and the Acknowledgement of Risk.PLEASE READ THIS DOCUMENT BEFORE PROCEEDING (WORKSHOP TERMS & CONDITIONS AND ACKNOWLEDGMENT OF RISK)\n\nSELECT A PAYMENT - CHOOSE ONEIf Deposit Only is chosen\, the balance will be due 30 days prior to the start of the workshop *Deposit Only - $300Full Workshop Total - $1495\n\nREQUIRED INFORMATIONWorkshop Date *Full Name *Home PhoneCell PhoneAddress *CountryUnited States (US)United Kingdom (UK)CanadaAustralia---AfghanistanÅland IslandsAlbaniaAlgeriaAndorraAngolaAnguillaAntarcticaAntigua and BarbudaArgentinaArmeniaArubaAmerican SamoaAustriaAzerbaijanBahamasBahrainBangladeshBarbadosBelarusBelgiumBelauBelizeBeninBermudaBhutanBoliviaBonaire\, Saint Eustatius and SabaBosnia and HerzegovinaBotswanaBouvet IslandBrazilBritish Indian Ocean TerritoryBritish Virgin IslandsBruneiBulgariaBurkina FasoBurundiCambodiaCameroonCape VerdeCayman IslandsCentral African RepublicChadChileChinaChristmas IslandCocos (Keeling) IslandsColombiaComorosCongo (Brazzaville)Congo (Kinshasa)Cook IslandsCosta RicaCroatiaCubaCuraÇaoCyprusCzech RepublicDenmarkDjiboutiDominicaDominican RepublicEcuadorEgyptEl SalvadorEquatorial GuineaEritreaEstoniaEthiopiaFalkland IslandsFaroe IslandsFijiFinlandFranceFrench GuianaFrench PolynesiaFrench Southern TerritoriesGabonGambiaGeorgiaGermanyGhanaGibraltarGreeceGreenlandGrenadaGuadeloupeGuatemalaGuernseyGuineaGuinea-BissauGuyanaHaitiHeard Island and McDonald IslandsHondurasHong KongHungaryIcelandIndiaIndonesiaIranIraqRepublic of IrelandIsle of ManIsraelItalyIvory CoastJamaicaJapanJerseyJordanKazakhstanKenyaKiribatiKuwaitKyrgyzstanLaosLatviaLebanonLesothoLiberiaLibyaLiechtensteinLithuaniaLuxembourgMacao S.A.R.\, ChinaMacedoniaMadagascarMalawiMalaysiaMaldivesMaliMaltaMarshall IslandsMartiniqueMauritaniaMauritiusMayotteMexicoMicronesiaMoldovaMonacoMongoliaMontenegroMontserratMoroccoMozambiqueMyanmarNamibiaNauruNepalNetherlandsNetherlands AntillesNew CaledoniaNew ZealandNicaraguaNigerNigeriaNiueNorfolk IslandNorth KoreaNorwayOmanPakistanPalestinian TerritoryPanamaPapua New GuineaParaguayPeruPhilippinesPitcairnPolandPortugalQatarReunionRomaniaRussiaRwandaSaint BarthélemySaint HelenaSaint Kitts and NevisSaint LuciaSaint Martin (French part)Saint Martin (Dutch part)Saint Pierre and MiquelonSaint Vincent and the GrenadinesSan MarinoSão Tomé and PríncipeSaudi ArabiaSenegalSerbiaSeychellesSierra LeoneSingaporeSlovakiaSloveniaSolomon IslandsSomaliaSouth AfricaSouth Georgia/Sandwich IslandsSouth KoreaSouth SudanSpainSri LankaSudanSurinameSvalbard and Jan MayenSwazilandSwedenSwitzerlandSyriaTaiwanTajikistanTanzaniaThailandTimor-LesteTogoTokelauTongaTrinidad and TobagoTunisiaTurkeyTurkmenistanTurks and Caicos IslandsTuvaluUgandaUkraineUnited Arab EmiratesUruguayUzbekistanVanuatuVaticanVenezuelaVietnamWallis and FutunaWestern SaharaWestern SamoaYemenZambiaZimbabweCityStateAlabamaAlaskaArizonaArkansasCaliforniaColoradoConnecticutDelawareDistrict Of ColumbiaFloridaGeorgiaHawaiiIdahoIllinoisIndianaIowaKansasKentuckyLouisianaMaineMarylandMassachusettsMichiganMinnesotaMississippiMissouriMontanaNebraskaNevadaNew HampshireNew JerseyNew MexicoNew YorkNorth CarolinaNorth DakotaOhioOklahomaOregonPennsylvaniaRhode IslandSouth CarolinaSouth DakotaTennesseeTexasUtahVermontVirginiaWashingtonWest VirginiaWisconsinWyomingArmed Forces (AA)Armed Forces (AE)Armed Forces (AP)American SamoaGuamNorthern Mariana IslandsPuerto RicoUS Minor Outlying IslandsUS Virgin IslandsZip codeEmail *Website/BlogHave you attended a Jack Graham Photography Workshop before?YesNoIMPORTANTPlease note that if you are under the age of 18\, you must be accompanied by an adult or a legal guardian and all forms must be signed by an adult or a legal guardian. \nEmergency Contact *Please provide name\, phone number and relation to youAge and Health Information(Please be specific)Do you have any food allergies?(If yes\, please list)\n\nTRAVEL INFORMATION (optional)Arrival Date & TimeArrival Flight# and AirlineDeparture Date & TimeDeparture Flight# and AirlineDo you have a current passport?YesNoAdditional Travel Info\n\nPHOTOGRAPHY BACKGROUNDType of Camera Equipment UsedLarge or Medium FormatDigital (DSLR)MirrorlessTripod (highly recommended)Photo Software you use or are familiar with:Adobe LightroomAdobe PhotoshopAdobe ElementsOther Photo Software (Please indicate below)Equipment Brand(s)Other Software Brand(s)What type of Computer do you use?PCMACSkill LevelNoviceAmateurAdvancedProfessionalWhat do you consider to be your photography strengths?Specific things you would like to work on during our workshopHave you attended other photo workshops? (If YES\, please list)Other special considerationsHow did you hear of these workshops?THANK YOU!Thank you for your consideration and interest. We look forward to having you on our adventure. Please feel free to contact me at any time for more information.\n~ Jack Graham \nCaptcha *reCAPTCHA is required.Submit
URL:https://jackgrahamphoto.com/workshop/upper-michigan-fall-colors-3-2/
LOCATION:Savannah Georgia\, United States
CATEGORIES:Jack Graham Photo Workshops 2025
ATTACH;FMTTYPE=image/jpeg:https://jackgrahamphoto.com/wp-content/uploads/2024/07/Tree-Arch.jpg
END:VEVENT
END:VCALENDAR